BEGIN:VCALENDAR
VERSION:2.0
PRODID:-//GanterMarkt Ganderkesee e.V. - ECPv6.15.20//NONSGML v1.0//EN
CALSCALE:GREGORIAN
METHOD:PUBLISH
X-ORIGINAL-URL:https://gantermarkt.de
X-WR-CALDESC:Veranstaltungen für GanterMarkt Ganderkesee e.V.
REFRESH-INTERVAL;VALUE=DURATION:PT1H
X-Robots-Tag:noindex
X-PUBLISHED-TTL:PT1H
BEGIN:VTIMEZONE
TZID:Europe/Berlin
BEGIN:DAYLIGHT
TZOFFSETFROM:+0100
TZOFFSETTO:+0200
TZNAME:CEST
DTSTART:20250330T010000
END:DAYLIGHT
BEGIN:STANDARD
TZOFFSETFROM:+0200
TZOFFSETTO:+0100
TZNAME:CET
DTSTART:20251026T010000
END:STANDARD
BEGIN:DAYLIGHT
TZOFFSETFROM:+0100
TZOFFSETTO:+0200
TZNAME:CEST
DTSTART:20260329T010000
END:DAYLIGHT
BEGIN:STANDARD
TZOFFSETFROM:+0200
TZOFFSETTO:+0100
TZNAME:CET
DTSTART:20261025T010000
END:STANDARD
BEGIN:DAYLIGHT
TZOFFSETFROM:+0100
TZOFFSETTO:+0200
TZNAME:CEST
DTSTART:20270328T010000
END:DAYLIGHT
BEGIN:STANDARD
TZOFFSETFROM:+0200
TZOFFSETTO:+0100
TZNAME:CET
DTSTART:20271031T010000
END:STANDARD
BEGIN:DAYLIGHT
TZOFFSETFROM:+0100
TZOFFSETTO:+0200
TZNAME:CEST
DTSTART:20280326T010000
END:DAYLIGHT
BEGIN:STANDARD
TZOFFSETFROM:+0200
TZOFFSETTO:+0100
TZNAME:CET
DTSTART:20281029T010000
END:STANDARD
END:VTIMEZONE
BEGIN:VEVENT
DTSTART;TZID=Europe/Berlin:20260621T120000
DTEND;TZID=Europe/Berlin:20260621T170000
DTSTAMP:20260419T142837
CREATED:20260318T085622Z
LAST-MODIFIED:20260319T114612Z
UID:8039-1782043200-1782061200@gantermarkt.de
SUMMARY:Familientag & Tag der offenen Türam „Gewerbegebiet Westtangente“
DESCRIPTION:
URL:https://gantermarkt.de/veranstaltung/familientag-westtangente/
END:VEVENT
BEGIN:VEVENT
DTSTART;TZID=Europe/Berlin:20260801T120000
DTEND;TZID=Europe/Berlin:20260802T170000
DTSTAMP:20260419T142837
CREATED:20260318T090333Z
LAST-MODIFIED:20260318T102730Z
UID:8045-1785585600-1785690000@gantermarkt.de
SUMMARY:5. Ganderkeseer Bierfest (VOS*)
DESCRIPTION:Töglich von 12 Uhr bis 17 Uhr
URL:https://gantermarkt.de/veranstaltung/ganderkeseer-bierfest/
END:VEVENT
BEGIN:VEVENT
DTSTART;TZID=Europe/Berlin:20260919T120000
DTEND;TZID=Europe/Berlin:20260920T170000
DTSTAMP:20260419T142837
CREATED:20260318T090939Z
LAST-MODIFIED:20260318T103606Z
UID:8047-1789819200-1789923600@gantermarkt.de
SUMMARY:Ganderkeseer Herbstmarkt (VOS)
DESCRIPTION:
URL:https://gantermarkt.de/veranstaltung/ganderkeseer-herbstmarkt-vos/
END:VEVENT
BEGIN:VEVENT
DTSTART;TZID=Europe/Berlin:20261108T120000
DTEND;TZID=Europe/Berlin:20261108T170000
DTSTAMP:20260419T142837
CREATED:20260318T091213Z
LAST-MODIFIED:20260318T103651Z
UID:8049-1794139200-1794157200@gantermarkt.de
SUMMARY:GanterTach! (VOS)
DESCRIPTION:
URL:https://gantermarkt.de/veranstaltung/gantertach/
END:VEVENT
BEGIN:VEVENT
DTSTART;TZID=Europe/Berlin:20261204T190000
DTEND;TZID=Europe/Berlin:20261206T210000
DTSTAMP:20260419T142837
CREATED:20260318T104237Z
LAST-MODIFIED:20260318T104330Z
UID:8078-1796410800-1796590800@gantermarkt.de
SUMMARY:Ganderkeseer Weihnachtsmarkt (GGV)
DESCRIPTION:
URL:https://gantermarkt.de/veranstaltung/ganderkeseer-weihnachtsmarkt/
END:VEVENT
BEGIN:VEVENT
DTSTART;TZID=Europe/Berlin:20270110T120000
DTEND;TZID=Europe/Berlin:20270110T170000
DTSTAMP:20260419T142837
CREATED:20260318T100016Z
LAST-MODIFIED:20260318T103812Z
UID:8059-1799582400-1799600400@gantermarkt.de
SUMMARY:KNUTschen! - Das Schredderfest (VOS)
DESCRIPTION:
URL:https://gantermarkt.de/veranstaltung/knutschen-das-schredderfest-vos/
END:VEVENT
END:VCALENDAR